BEGIN:VCALENDAR
VERSION:2.0
PRODID:-//wp-events-plugin.com//7.2.3.1//EN
TZID:America/Denver
X-WR-TIMEZONE:America/Denver
BEGIN:VEVENT
UID:134@greatergallatinunitedway.org
DTSTART;TZID=America/Denver:20260706T073000
DTEND;TZID=America/Denver:20260710T173000
DTSTAMP:20260119T210351Z
URL:https://greatergallatinunitedway.org/take-action/attend/kidslink-summe
 r-camp-saddle-peak-week4/
SUMMARY:kidsLINK Summer Camp @ Saddle Peak
DESCRIPTION:Bozeman kidsLINK Summer Camp   |   Week 4   |   BRICK BUILDERS
ATTACH;FMTTYPE=image/jpeg:https://i0.wp.com/greatergallatinunitedway.org/w
 p-content/uploads/2026/01/Image-75.webp?fit=1440%2C1920&ssl=1
CATEGORIES:kidsLINK EVENTS + CAMPS,SUMMER CAMPS
LOCATION:Saddle Peak Elementary\, 400 Jackrabbit Ln\, Belgrade\, MT\, 59714
 \, United States
X-APPLE-STRUCTURED-LOCATION;VALUE=URI;X-ADDRESS=400 Jackrabbit Ln\, Belgrad
 e\, MT\, 59714\, United States;X-APPLE-RADIUS=100;X-TITLE=Saddle Peak Elem
 entary:geo:0,0
END:VEVENT
BEGIN:VTIMEZONE
TZID:America/Denver
X-LIC-LOCATION:America/Denver
BEGIN:DAYLIGHT
DTSTART:20260308T030000
TZOFFSETFROM:-0700
TZOFFSETTO:-0600
TZNAME:MDT
END:DAYLIGHT
END:VTIMEZONE
END:VCALENDAR